BEGIN:VCALENDAR
VERSION:2.0
PRODID:-//hacksw/handcal//NONSGML v1.0//EN
BEGIN:VEVENT
UID:webmaster@cooper.edu
DTSTAMP; TZID=America/New_York:20230309T170000
ORGANIZER;CN=The Cooper Union:MAILTO:webmaster@cooper.edu
DTSTART; TZID=America/New_York:20230309T170000
DTEND; TZID=America/New_York:20230309T180000
SUMMARY:Doing Gender, Mixed Race, and Visual Culture
DESCRIPTION:Rachel Afi Quinn, Ph.D., speaks about how her own mixed-race identity (as Ghanaian American and Jewish) has informed her scholarship
END:VEVENT
END:VCALENDAR
