BEGIN:VCALENDAR
VERSION:2.0
PRODID:-//hacksw/handcal//NONSGML v1.0//EN
BEGIN:VEVENT
UID:webmaster@cooper.edu
DTSTAMP; TZID=America/New_York:20230125T190000
ORGANIZER;CN=The Cooper Union:MAILTO:webmaster@cooper.edu
DTSTART; TZID=America/New_York:20230125T190000
DTEND; TZID=America/New_York:20230125T203000
SUMMARY:Addictive Connections   
DESCRIPTION:A nuanced discussion on the impact that the criminalization of addiction and drug use has had on music and other creative arts
END:VEVENT
END:VCALENDAR
