BEGIN:VCALENDAR
VERSION:2.0
PRODID:-//hacksw/handcal//NONSGML v1.0//EN
BEGIN:VEVENT
UID:webmaster@cooper.edu
DTSTAMP; TZID=America/New_York:20221103T183000
ORGANIZER;CN=The Cooper Union:MAILTO:webmaster@cooper.edu
DTSTART; TZID=America/New_York:20221103T183000
DTEND; TZID=America/New_York:20221103T203000
SUMMARY:Student Lecture Series | Michael Abel and Nile Greenberg, ANY: FLIPPER
DESCRIPTION:Michael Abel will present the work of ANY followed by a discussion moderated by Dov Diamond.&nbsp;
END:VEVENT
END:VCALENDAR
