BEGIN:VCALENDAR
VERSION:2.0
PRODID:-//hacksw/handcal//NONSGML v1.0//EN
BEGIN:VEVENT
UID:webmaster@cooper.edu
DTSTAMP; TZID=America/New_York:20221028T170000
ORGANIZER;CN=The Cooper Union:MAILTO:webmaster@cooper.edu
DTSTART; TZID=America/New_York:20221028T170000
DTEND; TZID=America/New_York:20221028T190000
SUMMARY:In-Class Lecture | Valerie Olson: Into the Extreme
DESCRIPTION:Valeri Olson will present her work followed by a discussion moderated by Lydia Kallipoliti.&nbsp;
END:VEVENT
END:VCALENDAR
