BEGIN:VCALENDAR
VERSION:2.0
PRODID:-//hacksw/handcal//NONSGML v1.0//EN
BEGIN:VEVENT
UID:webmaster@cooper.edu
DTSTAMP; TZID=America/New_York:20221110T183000
ORGANIZER;CN=The Cooper Union:MAILTO:webmaster@cooper.edu
DTSTART; TZID=America/New_York:20221110T183000
DTEND; TZID=America/New_York:20221110T203000
SUMMARY:Eleanore Pettersen Lecture | Maria Shéhérazade Giudici: Carefree, not careless
DESCRIPTION:Maria Shéhérazade Giudici will present her work followed by a discussion moderated by Elisa Iturbe.
END:VEVENT
END:VCALENDAR
