BEGIN:VCALENDAR
VERSION:2.0
PRODID:-//hacksw/handcal//NONSGML v1.0//EN
BEGIN:VEVENT
UID:webmaster@cooper.edu
DTSTAMP; TZID=America/New_York:20221103T183000
ORGANIZER;CN=The Cooper Union:MAILTO:webmaster@cooper.edu
DTSTART; TZID=America/New_York:20221103T183000
DTEND; TZID=America/New_York:20221103T193000
SUMMARY:Inescapable Atmospheres: From Climate Realism to Decarbonized Desire
DESCRIPTION:Matt Bower, adjunct assistant professor in the Faculty of Humanities and Social Sciences, speaks about moving beyond fossil-fuel based capitalism&nbsp;
END:VEVENT
END:VCALENDAR
