BEGIN:VCALENDAR
VERSION:2.0
PRODID:-//hacksw/handcal//NONSGML v1.0//EN
BEGIN:VEVENT
UID:webmaster@cooper.edu
DTSTAMP; TZID=America/New_York:20221027T120000
ORGANIZER;CN=The Cooper Union:MAILTO:webmaster@cooper.edu
DTSTART; TZID=America/New_York:20221027T120000
DTEND; TZID=America/New_York:20221113T170000
SUMMARY:Beyond the Frame—SITU Research
DESCRIPTION:A Third Floor Hallway Gallery exhibition of recent projects by SITU Research, a visual investigations practice based in Brooklyn, New York.
END:VEVENT
END:VCALENDAR
