BEGIN:VCALENDAR
VERSION:2.0
PRODID:-//hacksw/handcal//NONSGML v1.0//EN
BEGIN:VEVENT
UID:webmaster@cooper.edu
DTSTAMP; TZID=America/New_York:20221025T123000
ORGANIZER;CN=The Cooper Union:MAILTO:webmaster@cooper.edu
DTSTART; TZID=America/New_York:20221025T123000
DTEND; TZID=America/New_York:20221025T140000
SUMMARY:Student Lecture Series | Rubén Polendo: Dramaturgy, Disruption, and Architecture
DESCRIPTION:Rubén Polendo will present his work followed by a discussion moderated by Martina Duque Gonzalez.&nbsp;
END:VEVENT
END:VCALENDAR
