BEGIN:VCALENDAR
VERSION:2.0
PRODID:-//hacksw/handcal//NONSGML v1.0//EN
BEGIN:VEVENT
UID:webmaster@cooper.edu
DTSTAMP; TZID=America/New_York:20221027T183000
ORGANIZER;CN=The Cooper Union:MAILTO:webmaster@cooper.edu
DTSTART; TZID=America/New_York:20221027T183000
DTEND; TZID=America/New_York:20221027T203000
SUMMARY:Exhibition Lecture | Beyond the Frame
DESCRIPTION:Brad Samuels and Gauri Bahuguna will present their work followed by a conversation moderated by Mersiha Veledar.&nbsp;
END:VEVENT
END:VCALENDAR
