BEGIN:VCALENDAR
VERSION:2.0
PRODID:-//hacksw/handcal//NONSGML v1.0//EN
BEGIN:VEVENT
UID:webmaster@cooper.edu
DTSTAMP; TZID=America/New_York:20221017T190000
ORGANIZER;CN=The Cooper Union:MAILTO:webmaster@cooper.edu
DTSTART; TZID=America/New_York:20221017T190000
DTEND; TZID=America/New_York:20221017T210000
SUMMARY:The Architecture Lobby Green New Deal Working Group with the Cooper Climate Coalition: A Just Transition for Architecture
DESCRIPTION:The Architecture Lobby Green New Deal Working Group will discuss their work with the Cooper Climate Coalition.
END:VEVENT
END:VCALENDAR
