BEGIN:VCALENDAR
VERSION:2.0
PRODID:-//hacksw/handcal//NONSGML v1.0//EN
BEGIN:VEVENT
UID:webmaster@cooper.edu
DTSTAMP; TZID=America/New_York:20221014T170000
ORGANIZER;CN=The Cooper Union:MAILTO:webmaster@cooper.edu
DTSTART; TZID=America/New_York:20221014T170000
DTEND; TZID=America/New_York:20221014T190000
SUMMARY:Student Lecture Series | Matthew Waxman: Animating the Tectonic Image
DESCRIPTION:Matthew Waxman will present his work followed by a discussion moderated by Sofia Mercado.&nbsp;
END:VEVENT
END:VCALENDAR
