BEGIN:VCALENDAR
VERSION:2.0
PRODID:-//hacksw/handcal//NONSGML v1.0//EN
BEGIN:VEVENT
UID:webmaster@cooper.edu
DTSTAMP; TZID=America/New_York:20221006T160000
ORGANIZER;CN=The Cooper Union:MAILTO:webmaster@cooper.edu
DTSTART; TZID=America/New_York:20221006T160000
DTEND; TZID=America/New_York:20221006T180000
SUMMARY:In-Class Lecture | Studio Talks — Alex Bozikovic
DESCRIPTION:Alex Bozikovic will give a presentation on his work in Toronto followed by a class conversation moderated by the Design II faculty.&nbsp;
END:VEVENT
END:VCALENDAR
