BEGIN:VCALENDAR
VERSION:2.0
PRODID:-//hacksw/handcal//NONSGML v1.0//EN
BEGIN:VEVENT
UID:webmaster@cooper.edu
DTSTAMP; TZID=America/New_York:20221201T170000
ORGANIZER;CN=The Cooper Union:MAILTO:webmaster@cooper.edu
DTSTART; TZID=America/New_York:20221201T170000
DTEND; TZID=America/New_York:20221201T180000
SUMMARY:Being in the Room Privilege: Elite Capture and Epistemic Deference
DESCRIPTION:Olúfẹ́mi O. Táíwò speaks as part of an online lecture series around&nbsp;the theme of intersectional justice
END:VEVENT
END:VCALENDAR
