BEGIN:VCALENDAR
VERSION:2.0
PRODID:-//hacksw/handcal//NONSGML v1.0//EN
BEGIN:VEVENT
UID:webmaster@cooper.edu
DTSTAMP; TZID=America/New_York:20221012T180000
ORGANIZER;CN=The Cooper Union:MAILTO:webmaster@cooper.edu
DTSTART; TZID=America/New_York:20221012T180000
DTEND; TZID=America/New_York:20221012T200000
SUMMARY:Current Work | Centering Community: PILARES
DESCRIPTION:Leading architecture firms gather online to discuss their community center designs for Mexico City’s PILARES initiative.
END:VEVENT
END:VCALENDAR
