BEGIN:VCALENDAR
VERSION:2.0
PRODID:-//hacksw/handcal//NONSGML v1.0//EN
BEGIN:VEVENT
UID:webmaster@cooper.edu
DTSTAMP; TZID=America/New_York:20221010T183000
ORGANIZER;CN=The Cooper Union:MAILTO:webmaster@cooper.edu
DTSTART; TZID=America/New_York:20221010T183000
DTEND; TZID=America/New_York:20221010T203000
SUMMARY:Exhibition Lecture | Annabel Wharton: Models as Ethical Agents
DESCRIPTION:Annabel Wharton will give a public lecture followed by a Q&amp;A session.&nbsp;
END:VEVENT
END:VCALENDAR
