BEGIN:VCALENDAR
VERSION:2.0
PRODID:-//hacksw/handcal//NONSGML v1.0//EN
BEGIN:VEVENT
UID:webmaster@cooper.edu
DTSTAMP; TZID=America/New_York:20221004T183000
ORGANIZER;CN=The Cooper Union:MAILTO:webmaster@cooper.edu
DTSTART; TZID=America/New_York:20221004T183000
DTEND; TZID=America/New_York:20221118T190000
SUMMARY:Model Behavior
DESCRIPTION:An exhibition curated by the Anyone Corporation that features 70 works and objects by 45 artists and architects.
END:VEVENT
END:VCALENDAR
