BEGIN:VCALENDAR
VERSION:2.0
PRODID:-//hacksw/handcal//NONSGML v1.0//EN
BEGIN:VEVENT
UID:webmaster@cooper.edu
DTSTAMP; TZID=America/New_York:20220919T170000
ORGANIZER;CN=The Cooper Union:MAILTO:webmaster@cooper.edu
DTSTART; TZID=America/New_York:20220919T170000
DTEND; TZID=America/New_York:20220925T140000
SUMMARY:Cooper Union x Climate Week 2022
DESCRIPTION:
END:VEVENT
END:VCALENDAR
