BEGIN:VCALENDAR
VERSION:2.0
PRODID:-//hacksw/handcal//NONSGML v1.0//EN
BEGIN:VEVENT
UID:webmaster@cooper.edu
DTSTAMP; TZID=America/New_York:20220919T183000
ORGANIZER;CN=The Cooper Union:MAILTO:webmaster@cooper.edu
DTSTART; TZID=America/New_York:20220919T183000
DTEND; TZID=America/New_York:20220919T200000
SUMMARY:Cooper Union x Climate Week: Climate, Labor, and Policy
DESCRIPTION:Liza Featherstone,&nbsp;NYS&nbsp;Assemblymember&nbsp;Zohran Kwame Mamdani, and&nbsp;Dr. Genevieve Guenther in conversation
END:VEVENT
END:VCALENDAR
