BEGIN:VCALENDAR
VERSION:2.0
PRODID:-//hacksw/handcal//NONSGML v1.0//EN
BEGIN:VEVENT
UID:webmaster@cooper.edu
DTSTAMP; TZID=America/New_York:20220913T183000
ORGANIZER;CN=The Cooper Union:MAILTO:webmaster@cooper.edu
DTSTART; TZID=America/New_York:20220913T183000
DTEND; TZID=America/New_York:20220913T200000
SUMMARY:Gallery Remarks: Jacob Sebastian Bang and Anne Romme AR'05
DESCRIPTION:Gallery remarks by Jacob Sebastian Bang and Anne Romme AR’05&nbsp;in conjunction with exhibition&nbsp;At the Intersection of Ideas and Material Conditions.
END:VEVENT
END:VCALENDAR
