BEGIN:VCALENDAR
VERSION:2.0
PRODID:-//hacksw/handcal//NONSGML v1.0//EN
BEGIN:VEVENT
UID:webmaster@cooper.edu
DTSTAMP; TZID=America/New_York:20220906T120000
ORGANIZER;CN=The Cooper Union:MAILTO:webmaster@cooper.edu
DTSTART; TZID=America/New_York:20220906T120000
DTEND; TZID=America/New_York:20220925T180000
SUMMARY:At the Intersection of Ideas and Material Conditions
DESCRIPTION:An exhibition of work by architects, researchers, and teachers at the Institute of Architecture and Culture at the Royal Danish Academy.
END:VEVENT
END:VCALENDAR
