BEGIN:VCALENDAR
VERSION:2.0
PRODID:-//hacksw/handcal//NONSGML v1.0//EN
BEGIN:VEVENT
UID:webmaster@cooper.edu
DTSTAMP; TZID=America/New_York:20220830T140000
ORGANIZER;CN=The Cooper Union:MAILTO:webmaster@cooper.edu
DTSTART; TZID=America/New_York:20220830T140000
DTEND; TZID=America/New_York:20220830T180000
SUMMARY:Fall 2022 All School Assembly 
DESCRIPTION:Join the School of Architecture students, faculty, associate dean and staff as they introduce the fall semester courses.&nbsp;
END:VEVENT
END:VCALENDAR
