BEGIN:VCALENDAR
VERSION:2.0
PRODID:-//hacksw/handcal//NONSGML v1.0//EN
BEGIN:VEVENT
UID:webmaster@cooper.edu
DTSTAMP; TZID=America/New_York:20221027T170000
ORGANIZER;CN=The Cooper Union:MAILTO:webmaster@cooper.edu
DTSTART; TZID=America/New_York:20221027T170000
DTEND; TZID=America/New_York:20221027T180000
SUMMARY:Missing and Murdered Indigenous Women: The Epidemic You Don't Hear About 
DESCRIPTION:Heather Bruegl will discuss an epidemic that no one is talking about outside of Indian Country
END:VEVENT
END:VCALENDAR
