BEGIN:VCALENDAR
VERSION:2.0
PRODID:-//hacksw/handcal//NONSGML v1.0//EN
BEGIN:VEVENT
UID:webmaster@cooper.edu
DTSTAMP; TZID=America/New_York:20220407T170000
ORGANIZER;CN=The Cooper Union:MAILTO:webmaster@cooper.edu
DTSTART; TZID=America/New_York:20220407T170000
DTEND; TZID=America/New_York:20220407T180000
SUMMARY:Lewis Gordon, “A Black Existential Critique of Contemporary Uses of the Word ‘Privilege’”  
DESCRIPTION:A look at Black existentialism with an outline of its key problematics—including its critical treatment of race and racism
END:VEVENT
END:VCALENDAR
