BEGIN:VCALENDAR
VERSION:2.0
PRODID:-//hacksw/handcal//NONSGML v1.0//EN
BEGIN:VEVENT
UID:webmaster@cooper.edu
DTSTAMP; TZID=America/New_York:20220322T183000
ORGANIZER;CN=The Cooper Union:MAILTO:webmaster@cooper.edu
DTSTART; TZID=America/New_York:20220322T183000
DTEND; TZID=America/New_York:20220322T203000
SUMMARY:Visiting Lecture | Zhu Pei: Architecture of Nature, an experimental approach
DESCRIPTION:Zhu Pei will present his work followed by a discussion moderated by Nader Tehrani.&nbsp;
END:VEVENT
END:VCALENDAR
