BEGIN:VCALENDAR
VERSION:2.0
PRODID:-//hacksw/handcal//NONSGML v1.0//EN
BEGIN:VEVENT
UID:webmaster@cooper.edu
DTSTAMP; TZID=America/New_York:20220407T183000
ORGANIZER;CN=The Cooper Union:MAILTO:webmaster@cooper.edu
DTSTART; TZID=America/New_York:20220407T183000
DTEND; TZID=America/New_York:20220429T190000
SUMMARY:Conceiving the Plan: Nuance and Intimacy in the Construction of Civic Space
DESCRIPTION:An exhibition of proposals for civic space in honor of Cooper Union professor and architect Diane Lewis&nbsp;(1951 –2017).
END:VEVENT
END:VCALENDAR
