BEGIN:VCALENDAR
VERSION:2.0
PRODID:-//hacksw/handcal//NONSGML v1.0//EN
BEGIN:VEVENT
UID:webmaster@cooper.edu
DTSTAMP; TZID=America/New_York:20220308T170000
ORGANIZER;CN=The Cooper Union:MAILTO:webmaster@cooper.edu
DTSTART; TZID=America/New_York:20220308T170000
DTEND; TZID=America/New_York:20220330T170000
SUMMARY:Ezra Stoller: Photographs of Architecture
DESCRIPTION:An exhibition of Ezra Stoller photographs donated to the School of Architecture by Peter Katz A'76 and Erica Stoller.&nbsp;
END:VEVENT
END:VCALENDAR
