BEGIN:VCALENDAR
VERSION:2.0
PRODID:-//hacksw/handcal//NONSGML v1.0//EN
BEGIN:VEVENT
UID:webmaster@cooper.edu
DTSTAMP; TZID=America/New_York:20220510T190000
ORGANIZER;CN=The Cooper Union:MAILTO:webmaster@cooper.edu
DTSTART; TZID=America/New_York:20220510T190000
DTEND; TZID=America/New_York:20220510T203000
SUMMARY:Julietta Singh, "Dehumanist Nesting"
DESCRIPTION:Lecture on how built environments reveal subjugated stories of the past and more
END:VEVENT
END:VCALENDAR
