BEGIN:VCALENDAR
VERSION:2.0
PRODID:-//hacksw/handcal//NONSGML v1.0//EN
BEGIN:VEVENT
UID:webmaster@cooper.edu
DTSTAMP; TZID=America/New_York:20220203T170000
ORGANIZER;CN=The Cooper Union:MAILTO:webmaster@cooper.edu
DTSTART; TZID=America/New_York:20220203T170000
DTEND; TZID=America/New_York:20220203T180000
SUMMARY:Sara Sinclair, "Amplifying Oral Histories of Resistance"
DESCRIPTION:A discussion on&nbsp;how the act of remembering and sharing stories an act of resistance and more
END:VEVENT
END:VCALENDAR
