BEGIN:VCALENDAR
VERSION:2.0
PRODID:-//hacksw/handcal//NONSGML v1.0//EN
BEGIN:VEVENT
UID:webmaster@cooper.edu
DTSTAMP; TZID=America/New_York:20211208T180000
ORGANIZER;CN=The Cooper Union:MAILTO:webmaster@cooper.edu
DTSTART; TZID=America/New_York:20211208T180000
DTEND; TZID=America/New_York:20211208T200000
SUMMARY:In-Class Lecture | Guy Nordenson, Nat Oppenheimer and Nader Tehrani in Conversation 
DESCRIPTION:Nat Oppenheimer, Guy Nordenson and Nader Tehrani will the discuss the nature of collaboration between Architects and Structural Engineers.&nbsp;
END:VEVENT
END:VCALENDAR
