BEGIN:VCALENDAR
VERSION:2.0
PRODID:-//hacksw/handcal//NONSGML v1.0//EN
BEGIN:VEVENT
UID:webmaster@cooper.edu
DTSTAMP; TZID=America/New_York:20211112T183000
ORGANIZER;CN=The Cooper Union:MAILTO:webmaster@cooper.edu
DTSTART; TZID=America/New_York:20211112T183000
DTEND; TZID=America/New_York:20211112T203000
SUMMARY:Student Lecture Series | Nicolas Dorval-Bory: Matter, Energy, and Other Oddities
DESCRIPTION:Nicolas Dorval-Bory will present his work in public lecture followed by a Q&amp;A moderated by Dov Diamond.&nbsp;
END:VEVENT
END:VCALENDAR
