BEGIN:VCALENDAR
VERSION:2.0
PRODID:-//hacksw/handcal//NONSGML v1.0//EN
BEGIN:VEVENT
UID:webmaster@cooper.edu
DTSTAMP; TZID=America/New_York:20211207T113000
ORGANIZER;CN=The Cooper Union:MAILTO:webmaster@cooper.edu
DTSTART; TZID=America/New_York:20211207T113000
DTEND; TZID=America/New_York:20211207T133000
SUMMARY:Current Work | Yasmeen Lari: Barefoot Social Architecture Benefitting People and the Planet
DESCRIPTION:
END:VEVENT
END:VCALENDAR
