BEGIN:VCALENDAR
VERSION:2.0
PRODID:-//hacksw/handcal//NONSGML v1.0//EN
BEGIN:VEVENT
UID:webmaster@cooper.edu
DTSTAMP; TZID=America/New_York:20211111T170000
ORGANIZER;CN=The Cooper Union:MAILTO:webmaster@cooper.edu
DTSTART; TZID=America/New_York:20211111T170000
DTEND; TZID=America/New_York:20211111T180000
SUMMARY:Wendy Sung, "Techno-Carceral Imaginaries: Race, Surveillance, and Viral Witnessing"
DESCRIPTION:
END:VEVENT
END:VCALENDAR
