BEGIN:VCALENDAR
VERSION:2.0
PRODID:-//hacksw/handcal//NONSGML v1.0//EN
BEGIN:VEVENT
UID:webmaster@cooper.edu
DTSTAMP; TZID=America/New_York:20211013T180000
ORGANIZER;CN=The Cooper Union:MAILTO:webmaster@cooper.edu
DTSTART; TZID=America/New_York:20211013T180000
DTEND; TZID=America/New_York:20211013T200000
SUMMARY:In-Class Lecture | SHARON PRINCE AND LUIS C.DEBACA, GRACE FARMS: WHAT CAN YOU DO TO COMBAT MODERN SLAVERY IN THE BUILT ENVIRONMENT? Continued...
DESCRIPTION:
END:VEVENT
END:VCALENDAR
