BEGIN:VCALENDAR
VERSION:2.0
PRODID:-//hacksw/handcal//NONSGML v1.0//EN
BEGIN:VEVENT
UID:webmaster@cooper.edu
DTSTAMP; TZID=America/New_York:20211021T170000
ORGANIZER;CN=The Cooper Union:MAILTO:webmaster@cooper.edu
DTSTART; TZID=America/New_York:20211021T170000
DTEND; TZID=America/New_York:20211021T180000
SUMMARY:The Abolition of Time: Climate, Crisis, and Racial Capitalism 
DESCRIPTION:Tao Leigh Goffe, Ph.D., considers contemporary forms of apocalyptic storytelling and time
END:VEVENT
END:VCALENDAR
