BEGIN:VCALENDAR
VERSION:2.0
PRODID:-//hacksw/handcal//NONSGML v1.0//EN
BEGIN:VEVENT
UID:webmaster@cooper.edu
DTSTAMP; TZID=America/New_York:20210930T183000
ORGANIZER;CN=The Cooper Union:MAILTO:webmaster@cooper.edu
DTSTART; TZID=America/New_York:20210930T183000
DTEND; TZID=America/New_York:20210930T203000
SUMMARY:Student Lecture Series | Jeannette Sordi — Landcycles: On Landscape, Resources, and Infrastructure
DESCRIPTION:
END:VEVENT
END:VCALENDAR
