BEGIN:VCALENDAR
VERSION:2.0
PRODID:-//hacksw/handcal//NONSGML v1.0//EN
BEGIN:VEVENT
UID:webmaster@cooper.edu
DTSTAMP; TZID=America/New_York:20210923T183000
ORGANIZER;CN=The Cooper Union:MAILTO:webmaster@cooper.edu
DTSTART; TZID=America/New_York:20210923T183000
DTEND; TZID=America/New_York:20210923T203000
SUMMARY:Visiting Lecture and Book Launch | Matthew Soules — Icebergs, Zombies, and the Ultra Thin: Architecture and Capitalism in the Twenty-First Century
DESCRIPTION:
END:VEVENT
END:VCALENDAR
