BEGIN:VCALENDAR
VERSION:2.0
PRODID:-//hacksw/handcal//NONSGML v1.0//EN
BEGIN:VEVENT
UID:webmaster@cooper.edu
DTSTAMP; TZID=America/New_York:20210920T190000
ORGANIZER;CN=The Cooper Union:MAILTO:webmaster@cooper.edu
DTSTART; TZID=America/New_York:20210920T190000
DTEND; TZID=America/New_York:20210920T203000
SUMMARY:Climate Momentum: The Things That Keep Me Cheerful in the Face of the Worst Problem Ever
DESCRIPTION:In this free, public event, Rebecca Solnit,&nbsp;author of&nbsp;Men Explain Things to Me,&nbsp;reflects on how she faces the climate crisis
END:VEVENT
END:VCALENDAR
