BEGIN:VCALENDAR
VERSION:2.0
PRODID:-//hacksw/handcal//NONSGML v1.0//EN
BEGIN:VEVENT
UID:webmaster@cooper.edu
DTSTAMP; TZID=America/New_York:20210920T190000
ORGANIZER;CN=The Cooper Union:MAILTO:webmaster@cooper.edu
DTSTART; TZID=America/New_York:20210920T190000
DTEND; TZID=America/New_York:20210926T220000
SUMMARY:Cooper Union x Climate Week 2021
DESCRIPTION:A series of lectures and events that aim to engage our community in assessing the role of the climate crisis in our day-to-day lives
END:VEVENT
END:VCALENDAR
