BEGIN:VCALENDAR
VERSION:2.0
PRODID:-//hacksw/handcal//NONSGML v1.0//EN
BEGIN:VEVENT
UID:webmaster@cooper.edu
DTSTAMP; TZID=America/New_York:20210831T130000
ORGANIZER;CN=The Cooper Union:MAILTO:webmaster@cooper.edu
DTSTART; TZID=America/New_York:20210831T130000
DTEND; TZID=America/New_York:20210831T160000
SUMMARY:Fall 2021 All School Assembly
DESCRIPTION:The School of Architecture Convocation introduces&nbsp;the Fall Semester faculty, courses, and public programs.
END:VEVENT
END:VCALENDAR
