BEGIN:VCALENDAR
VERSION:2.0
PRODID:-//hacksw/handcal//NONSGML v1.0//EN
BEGIN:VEVENT
UID:webmaster@cooper.edu
DTSTAMP; TZID=America/New_York:20210429T180000
ORGANIZER;CN=The Cooper Union:MAILTO:webmaster@cooper.edu
DTSTART; TZID=America/New_York:20210429T180000
DTEND; TZID=America/New_York:20210429T200000
SUMMARY:Current Work | Emmanuel Pratt: [Re]Constructing PUBLIC TRUST - Reframing Past, Present, and Future
DESCRIPTION:Emmanuel Pratt, urban designer and community activist, presents his recent work.&nbsp;
END:VEVENT
END:VCALENDAR
