BEGIN:VCALENDAR
VERSION:2.0
PRODID:-//hacksw/handcal//NONSGML v1.0//EN
BEGIN:VEVENT
UID:webmaster@cooper.edu
DTSTAMP; TZID=America/New_York:20210402T120000
ORGANIZER;CN=The Cooper Union:MAILTO:webmaster@cooper.edu
DTSTART; TZID=America/New_York:20210402T120000
DTEND; TZID=America/New_York:20210402T140000
SUMMARY:In Conversation | Michael Young + Bryan Young: Sheets, Decks, Levels
DESCRIPTION:Michael Young and Bryan Young will present project topics and influences in a discussion moderated by students.
END:VEVENT
END:VCALENDAR
