BEGIN:VCALENDAR
VERSION:2.0
PRODID:-//hacksw/handcal//NONSGML v1.0//EN
BEGIN:VEVENT
UID:webmaster@cooper.edu
DTSTAMP; TZID=America/New_York:20210420T123000
ORGANIZER;CN=The Cooper Union:MAILTO:webmaster@cooper.edu
DTSTART; TZID=America/New_York:20210420T123000
DTEND; TZID=America/New_York:20210420T143000
SUMMARY:Current Work | Lionel Devlieger: Rotor - Reverse Architecture
DESCRIPTION:Lionel Devlieger presents Rotor's multifaceted work followed by a Q&amp;A.&nbsp;
END:VEVENT
END:VCALENDAR
