BEGIN:VCALENDAR
VERSION:2.0
PRODID:-//hacksw/handcal//NONSGML v1.0//EN
BEGIN:VEVENT
UID:webmaster@cooper.edu
DTSTAMP; TZID=America/New_York:20210223T140000
ORGANIZER;CN=The Cooper Union:MAILTO:webmaster@cooper.edu
DTSTART; TZID=America/New_York:20210223T140000
DTEND; TZID=America/New_York:20210223T170000
SUMMARY:Workshop | Inside-Outside / Freedom-Friction: 1:100 (Los Angeles)
DESCRIPTION:Jürg Keller and Christian Scheidegger of Atelier Scheidegger Keller will conduct three workshops on housing.&nbsp;
END:VEVENT
END:VCALENDAR
