BEGIN:VCALENDAR
VERSION:2.0
PRODID:-//hacksw/handcal//NONSGML v1.0//EN
BEGIN:VEVENT
UID:webmaster@cooper.edu
DTSTAMP; TZID=America/New_York:20210409T183000
ORGANIZER;CN=The Cooper Union:MAILTO:webmaster@cooper.edu
DTSTART; TZID=America/New_York:20210409T183000
DTEND; TZID=America/New_York:20210409T203000
SUMMARY:Student Lecture Series | Brenda Zhang (Bz): The Master's Concerns
DESCRIPTION:Brenda Zhang (Bz) will present their work in a lecture followed by a public discussion.&nbsp;
END:VEVENT
END:VCALENDAR
