BEGIN:VCALENDAR
VERSION:2.0
PRODID:-//hacksw/handcal//NONSGML v1.0//EN
BEGIN:VEVENT
UID:webmaster@cooper.edu
DTSTAMP; TZID=America/New_York:20210204T120000
ORGANIZER;CN=The Cooper Union:MAILTO:webmaster@cooper.edu
DTSTART; TZID=America/New_York:20210204T120000
DTEND; TZID=America/New_York:20210312T170000
SUMMARY:The Waltemath Foundation
DESCRIPTION:A foundation in Hooper, NE designed by Ballman Khapalova for the Nebraska-born and New York City-based abstract painter&nbsp;Joan Waltemath.
END:VEVENT
END:VCALENDAR
