BEGIN:VCALENDAR
VERSION:2.0
PRODID:-//hacksw/handcal//NONSGML v1.0//EN
BEGIN:VEVENT
UID:webmaster@cooper.edu
DTSTAMP; TZID=America/New_York:20210211T183000
ORGANIZER;CN=The Cooper Union:MAILTO:webmaster@cooper.edu
DTSTART; TZID=America/New_York:20210211T183000
DTEND; TZID=America/New_York:20210211T200000
SUMMARY:Student Lecture Series | Cruz Garcia & Nathalie Frankowski: Post-Colonial Narratives and other Loudreading Manifestos
DESCRIPTION:Garcia and Frankowski will present their work in a lecture followed by a discussion.&nbsp;
END:VEVENT
END:VCALENDAR
