BEGIN:VCALENDAR
VERSION:2.0
PRODID:-//hacksw/handcal//NONSGML v1.0//EN
BEGIN:VEVENT
UID:webmaster@cooper.edu
DTSTAMP; TZID=America/New_York:20210209T120000
ORGANIZER;CN=The Cooper Union:MAILTO:webmaster@cooper.edu
DTSTART; TZID=America/New_York:20210209T120000
DTEND; TZID=America/New_York:20210209T140000
SUMMARY:Visiting Lecture | Jürg Keller + Christian Scheidegger: Society of Rooms
DESCRIPTION:Jürg Keller and Christian Scheidegger will present their work followed by a conversation moderated by Nader Tehrani and Nima Javidi.&nbsp;
END:VEVENT
END:VCALENDAR
