BEGIN:VCALENDAR
VERSION:2.0
PRODID:-//hacksw/handcal//NONSGML v1.0//EN
BEGIN:VEVENT
UID:webmaster@cooper.edu
DTSTAMP; TZID=America/New_York:20210227T100000
ORGANIZER;CN=The Cooper Union:MAILTO:webmaster@cooper.edu
DTSTART; TZID=America/New_York:20210227T100000
DTEND; TZID=America/New_York:20210227T160000
SUMMARY:Anti-Racism in Thesis Workshop
DESCRIPTION:This workshop extends&nbsp;to Thesis courses&nbsp;an ongoing effort at The Cooper Union’s School of Architecture to decolonize the curriculum and advance anti-racist pedagogies.
END:VEVENT
END:VCALENDAR
