BEGIN:VCALENDAR
VERSION:2.0
PRODID:-//hacksw/handcal//NONSGML v1.0//EN
BEGIN:VEVENT
UID:webmaster@cooper.edu
DTSTAMP; TZID=America/New_York:20210217T183000
ORGANIZER;CN=The Cooper Union:MAILTO:webmaster@cooper.edu
DTSTART; TZID=America/New_York:20210217T183000
DTEND; TZID=America/New_York:20210217T203000
SUMMARY:A World of Many Worlds: Opening Reception and Project Presentation
DESCRIPTION:A presentation of Thesis projects by the outgoing Master of Architecture II&nbsp;students to the incoming class of graduate&nbsp;students.&nbsp;
END:VEVENT
END:VCALENDAR
