BEGIN:VCALENDAR
VERSION:2.0
PRODID:-//hacksw/handcal//NONSGML v1.0//EN
BEGIN:VEVENT
UID:webmaster@cooper.edu
DTSTAMP; TZID=America/New_York:20220426T121500
ORGANIZER;CN=The Cooper Union:MAILTO:webmaster@cooper.edu
DTSTART; TZID=America/New_York:20220426T121500
DTEND; TZID=America/New_York:20220426T141500
SUMMARY:Eleanore Pettersen Lecture | Samia Henni: Colonial Toxicity — France's Nuclear Heritage in the Sahara
DESCRIPTION:
END:VEVENT
END:VCALENDAR
